BEGIN:VCALENDAR
VERSION:2.0
PRODID:-//Selam Fruits Association - ECPv6.9.0//NONSGML v1.0//EN
CALSCALE:GREGORIAN
METHOD:PUBLISH
X-ORIGINAL-URL:https://selamfruits.com
X-WR-CALDESC:Events for Selam Fruits Association
REFRESH-INTERVAL;VALUE=DURATION:PT1H
X-Robots-Tag:noindex
X-PUBLISHED-TTL:PT1H
BEGIN:VTIMEZONE
TZID:Europe/Moscow
BEGIN:STANDARD
TZOFFSETFROM:+0300
TZOFFSETTO:+0300
TZNAME:MSK
DTSTART:20240101T000000
END:STANDARD
END:VTIMEZONE
BEGIN:VEVENT
DTSTART;TZID=Europe/Moscow:20240905T170000
DTEND;TZID=Europe/Moscow:20240905T170000
DTSTAMP:20260419T173305
CREATED:20240902T164140Z
LAST-MODIFIED:20240902T164325Z
UID:2409-1725555600-1725555600@selamfruits.com
SUMMARY:Tsehay Roschli 69th Birthday
DESCRIPTION:Celebrating Tsehay Roschli 69th Birthday \nDate: Tuesday 5th September 2024 \nTime: 5:00 PM \nPlace: Monarch Parkview Hotel\, Churchill Avenue Addis Ababa
URL:https://selamfruits.com/event/tsehay-roschli-69th-birthday/
CATEGORIES:Celebration
ATTACH;FMTTYPE=image/jpeg:https://selamfruits.com/wp-content/uploads/2024/09/photo_2024-09-02-18.49.25.jpeg
END:VEVENT
END:VCALENDAR